BEGIN:VCALENDAR
VERSION:2.0
PRODID:-//time.you/holidays//NONSGML v1.0//EN
BEGIN:VEVENT
UID:7c3a7d87-fa46-40b1-b2d7-2ef75cd6ed05
DTSTAMP:20260420T053955Z
DTSTART;VALUE=DATE:20330801
SUMMARY:Emancipation Day; Kadooment Day (Barbados)
END:VEVENT
END:VCALENDAR