BEGIN:VCALENDAR
VERSION:2.0
PRODID:-//time.you/holidays//NONSGML v1.0//EN
BEGIN:VEVENT
UID:79069eda-fbd7-4569-91e7-4fa20e473300
DTSTAMP:20260420T064737Z
DTSTART;VALUE=DATE:20290122
SUMMARY:Errol Barrow Day (observed) (Barbados)
END:VEVENT
END:VCALENDAR