BEGIN:VCALENDAR
VERSION:2.0
PRODID:-//time.you/holidays//NONSGML v1.0//EN
BEGIN:VEVENT
UID:88866ae7-9b07-44d6-a3d1-9b1a81f5bb6c
DTSTAMP:20260419T205836Z
DTSTART;VALUE=DATE:20260121
SUMMARY:Errol Barrow Day (Barbados)
END:VEVENT
END:VCALENDAR