BEGIN:VCALENDAR
VERSION:2.0
PRODID:-//time.you/holidays//NONSGML v1.0//EN
BEGIN:VEVENT
UID:22411641-3e28-48c1-a8cb-2a8ef09fb726
DTSTAMP:20260420T083613Z
DTSTART;VALUE=DATE:20260403
SUMMARY:Good Friday (Barbados)
END:VEVENT
END:VCALENDAR