BEGIN:VCALENDAR
VERSION:2.0
PRODID:-//time.you/holidays//NONSGML v1.0//EN
BEGIN:VEVENT
UID:b42e2d1a-487e-46ee-89de-8a0961bb4686
DTSTAMP:20260421T211946Z
DTSTART;VALUE=DATE:20311201
SUMMARY:Independence Day (observed) (Barbados)
END:VEVENT
END:VCALENDAR