BEGIN:VCALENDAR
VERSION:2.0
PRODID:-//time.you/holidays//NONSGML v1.0//EN
BEGIN:VEVENT
UID:0ff0bd3f-1bd2-473a-9ea1-55af38dac856
DTSTAMP:20260421T033335Z
DTSTART;VALUE=DATE:20261130
SUMMARY:Independence Day (Barbados)
END:VEVENT
END:VCALENDAR