BEGIN:VCALENDAR
VERSION:2.0
PRODID:-//time.you/holidays//NONSGML v1.0//EN
BEGIN:VEVENT
UID:4647bad4-5ef6-4799-8972-9f75a9e28f80
DTSTAMP:20260421T033415Z
DTSTART;VALUE=DATE:20210104
SUMMARY:Public Holiday (Barbados)
END:VEVENT
END:VCALENDAR