BEGIN:VCALENDAR
VERSION:2.0
PRODID:-//time.you/holidays//NONSGML v1.0//EN
BEGIN:VEVENT
UID:7899edb8-84e3-4da2-9b4e-9d1d17413fc1
DTSTAMP:20260423T142556Z
DTSTART;VALUE=DATE:20261225
SUMMARY:Catholic Christmas Day (Belarus)
END:VEVENT
END:VCALENDAR