BEGIN:VCALENDAR
VERSION:2.0
PRODID:-//time.you/holidays//NONSGML v1.0//EN
BEGIN:VEVENT
UID:5e152b48-c18a-4d87-9aa9-ad6a94a2eec3
DTSTAMP:20260425T121954Z
DTSTART;VALUE=DATE:20280416
SUMMARY:Catholic Easter; Orthodox Easter (Belarus)
END:VEVENT
END:VCALENDAR