BEGIN:VCALENDAR
VERSION:2.0
PRODID:-//time.you/holidays//NONSGML v1.0//EN
BEGIN:VEVENT
UID:1bf2a848-5541-466a-aedc-f2aa886b0bc7
DTSTAMP:20260424T103248Z
DTSTART;VALUE=DATE:20260405
SUMMARY:Catholic Easter (Belarus)
END:VEVENT
END:VCALENDAR