BEGIN:VCALENDAR
VERSION:2.0
PRODID:-//time.you/holidays//NONSGML v1.0//EN
BEGIN:VEVENT
UID:d26e9c5d-3abc-4e2c-9b77-65bbb7b4ae8a
DTSTAMP:20260424T122308Z
DTSTART;VALUE=DATE:20250428
SUMMARY:Day off (substituted from 04/26/2025) (Belarus)
END:VEVENT
END:VCALENDAR