BEGIN:VCALENDAR
VERSION:2.0
PRODID:-//time.you/holidays//NONSGML v1.0//EN
BEGIN:VEVENT
UID:ac08faa8-6dd2-41c8-865d-79c00af91982
DTSTAMP:20260422T064631Z
DTSTART;VALUE=DATE:20230424
SUMMARY:Day off (substituted from 04/29/2023) (Belarus)
END:VEVENT
END:VCALENDAR