BEGIN:VCALENDAR
VERSION:2.0
PRODID:-//time.you/holidays//NONSGML v1.0//EN
BEGIN:VEVENT
UID:b862b94f-e8e1-45ff-b96f-12cd26d920f1
DTSTAMP:20260424T021823Z
DTSTART;VALUE=DATE:20240513
SUMMARY:Day off (substituted from 05/18/2024) (Belarus)
END:VEVENT
END:VCALENDAR