BEGIN:VCALENDAR
VERSION:2.0
PRODID:-//time.you/holidays//NONSGML v1.0//EN
BEGIN:VEVENT
UID:4516f8d7-4e88-4d1b-9330-34ddfa6fd38b
DTSTAMP:20260423T175104Z
DTSTART;VALUE=DATE:20250704
SUMMARY:Day off (substituted from 07/12/2025) (Belarus)
END:VEVENT
END:VCALENDAR