BEGIN:VCALENDAR
VERSION:2.0
PRODID:-//time.you/holidays//NONSGML v1.0//EN
BEGIN:VEVENT
UID:d72bf5e1-cf52-4e9d-a43e-2f6cbdd517bc
DTSTAMP:20260424T053256Z
DTSTART;VALUE=DATE:20241108
SUMMARY:Day off (substituted from 11/16/2024) (Belarus)
END:VEVENT
END:VCALENDAR