BEGIN:VCALENDAR
VERSION:2.0
PRODID:-//time.you/holidays//NONSGML v1.0//EN
BEGIN:VEVENT
UID:e0fe98f3-f4a5-44f3-a170-5e553c8d4039
DTSTAMP:20260421T183812Z
DTSTART;VALUE=DATE:20251226
SUMMARY:Day off (substituted from 12/20/2025) (Belarus)
END:VEVENT
END:VCALENDAR