BEGIN:VCALENDAR
VERSION:2.0
PRODID:-//time.you/holidays//NONSGML v1.0//EN
BEGIN:VEVENT
UID:20ce2b4a-dc0b-47a7-9632-9e5a34da85db
DTSTAMP:20260422T003730Z
DTSTART;VALUE=DATE:20260703
SUMMARY:Independence Day of the Republic of Belarus (Day of the Republic) (Belarus)
END:VEVENT
END:VCALENDAR