BEGIN:VCALENDAR
VERSION:2.0
PRODID:-//time.you/holidays//NONSGML v1.0//EN
BEGIN:VEVENT
UID:37d7f157-b1f6-423a-aa2e-5930b3f9a272
DTSTAMP:20260421T004126Z
DTSTART;VALUE=DATE:20260501
SUMMARY:Labor Day (Belarus)
END:VEVENT
END:VCALENDAR