BEGIN:VCALENDAR
VERSION:2.0
PRODID:-//time.you/holidays//NONSGML v1.0//EN
BEGIN:VEVENT
UID:5e1a2779-f1e4-41dc-be4c-5dac79bd9f7a
DTSTAMP:20260420T232615Z
DTSTART;VALUE=DATE:20260101
SUMMARY:New Year's Day (Belarus)
END:VEVENT
END:VCALENDAR