BEGIN:VCALENDAR
VERSION:2.0
PRODID:-//time.you/holidays//NONSGML v1.0//EN
BEGIN:VEVENT
UID:dbcb402f-973e-461e-a79d-a598a7644a72
DTSTAMP:20260420T095243Z
DTSTART;VALUE=DATE:20260107
SUMMARY:Orthodox Christmas Day (Belarus)
END:VEVENT
END:VCALENDAR