BEGIN:VCALENDAR
VERSION:2.0
PRODID:-//time.you/holidays//NONSGML v1.0//EN
BEGIN:VEVENT
UID:f127d510-c8dd-454c-910e-421ad8435fe4
DTSTAMP:20260424T172433Z
DTSTART;VALUE=DATE:20260412
SUMMARY:Orthodox Easter (Belarus)
END:VEVENT
END:VCALENDAR