BEGIN:VCALENDAR
VERSION:2.0
PRODID:-//time.you/holidays//NONSGML v1.0//EN
BEGIN:VEVENT
UID:742896e3-62a5-4cf3-99c0-b2ee4bcc8fb8
DTSTAMP:20260420T204555Z
DTSTART;VALUE=DATE:20260308
SUMMARY:Women's Day (Belarus)
END:VEVENT
END:VCALENDAR