BEGIN:VCALENDAR
VERSION:2.0
PRODID:-//time.you/holidays//NONSGML v1.0//EN
BEGIN:VEVENT
UID:dbf690f1-46a5-4f6b-87f9-ac32f8d98678
DTSTAMP:20260419T234826Z
DTSTART;VALUE=DATE:20261101
SUMMARY:All Saints' Day (Belgium)
END:VEVENT
END:VCALENDAR