BEGIN:VCALENDAR
VERSION:2.0
PRODID:-//time.you/holidays//NONSGML v1.0//EN
BEGIN:VEVENT
UID:cf1f1927-f778-4374-9052-11395ba6cee6
DTSTAMP:20260421T133644Z
DTSTART;VALUE=DATE:20260514
SUMMARY:Ascension Day (Belgium)
END:VEVENT
END:VCALENDAR