BEGIN:VCALENDAR
VERSION:2.0
PRODID:-//time.you/holidays//NONSGML v1.0//EN
BEGIN:VEVENT
UID:39f3ece5-f886-4901-8a07-3d625f7f9718
DTSTAMP:20260420T013911Z
DTSTART;VALUE=DATE:20261225
SUMMARY:Christmas Day (Belgium)
END:VEVENT
END:VCALENDAR