BEGIN:VCALENDAR
VERSION:2.0
PRODID:-//time.you/holidays//NONSGML v1.0//EN
BEGIN:VEVENT
UID:c2db99cd-66bd-452c-aa27-0929823c5a54
DTSTAMP:20260424T013142Z
DTSTART;VALUE=DATE:20260406
SUMMARY:Easter Monday (Belgium)
END:VEVENT
END:VCALENDAR