BEGIN:VCALENDAR
VERSION:2.0
PRODID:-//time.you/holidays//NONSGML v1.0//EN
BEGIN:VEVENT
UID:607064d6-0f19-4426-a5b6-85ecfd6d8c64
DTSTAMP:20260420T124447Z
DTSTART;VALUE=DATE:20260405
SUMMARY:Easter Sunday (Belgium)
END:VEVENT
END:VCALENDAR