BEGIN:VCALENDAR
VERSION:2.0
PRODID:-//time.you/holidays//NONSGML v1.0//EN
BEGIN:VEVENT
UID:0860e002-4396-4c68-8820-bada1b9a7f8d
DTSTAMP:20260420T112245Z
DTSTART;VALUE=DATE:20260501
SUMMARY:Labor Day (Belgium)
END:VEVENT
END:VCALENDAR