BEGIN:VCALENDAR
VERSION:2.0
PRODID:-//time.you/holidays//NONSGML v1.0//EN
BEGIN:VEVENT
UID:97eb824d-56a8-42a4-85ea-247caa193517
DTSTAMP:20260420T083721Z
DTSTART;VALUE=DATE:20260525
SUMMARY:Whit Monday (Belgium)
END:VEVENT
END:VCALENDAR