BEGIN:VCALENDAR
VERSION:2.0
PRODID:-//time.you/holidays//NONSGML v1.0//EN
BEGIN:VEVENT
UID:22cf9c3b-c23c-4bc1-b5aa-6f29f4943c5e
DTSTAMP:20260422T014642Z
DTSTART;VALUE=DATE:20271227
SUMMARY:Boxing Day (observed) (Belize)
END:VEVENT
END:VCALENDAR