BEGIN:VCALENDAR
VERSION:2.0
PRODID:-//time.you/holidays//NONSGML v1.0//EN
BEGIN:VEVENT
UID:6cd7e9df-6b3f-4986-9f7e-5225082b21ab
DTSTAMP:20260420T185927Z
DTSTART;VALUE=DATE:20261226
SUMMARY:Boxing Day (Belize)
END:VEVENT
END:VCALENDAR