BEGIN:VCALENDAR
VERSION:2.0
PRODID:-//time.you/holidays//NONSGML v1.0//EN
BEGIN:VEVENT
UID:be28f137-dc73-49ab-a815-dd21d6236f06
DTSTAMP:20260423T222207Z
DTSTART;VALUE=DATE:20261225
SUMMARY:Christmas Day (Belize)
END:VEVENT
END:VCALENDAR