BEGIN:VCALENDAR
VERSION:2.0
PRODID:-//time.you/holidays//NONSGML v1.0//EN
BEGIN:VEVENT
UID:50e186ec-d7de-46a4-8d37-066f9c3b978e
DTSTAMP:20260420T200323Z
DTSTART;VALUE=DATE:20260406
SUMMARY:Easter Monday (Belize)
END:VEVENT
END:VCALENDAR