BEGIN:VCALENDAR
VERSION:2.0
PRODID:-//time.you/holidays//NONSGML v1.0//EN
BEGIN:VEVENT
UID:189c1f53-0000-47e2-8311-34ad46ce7108
DTSTAMP:20260421T122344Z
DTSTART;VALUE=DATE:20270802
SUMMARY:Emancipation Day (observed) (Belize)
END:VEVENT
END:VCALENDAR