BEGIN:VCALENDAR
VERSION:2.0
PRODID:-//time.you/holidays//NONSGML v1.0//EN
BEGIN:VEVENT
UID:20cd726f-1df2-48e9-8e48-fa5c0bc9f3d3
DTSTAMP:20260423T235659Z
DTSTART;VALUE=DATE:20260404
SUMMARY:Holy Saturday (Belize)
END:VEVENT
END:VCALENDAR