BEGIN:VCALENDAR
VERSION:2.0
PRODID:-//time.you/holidays//NONSGML v1.0//EN
BEGIN:VEVENT
UID:bb83ba14-e5c9-4b11-9b9c-0d1d33130fa7
DTSTAMP:20260422T112233Z
DTSTART;VALUE=DATE:20310922
SUMMARY:Independence Day (observed) (Belize)
END:VEVENT
END:VCALENDAR