BEGIN:VCALENDAR
VERSION:2.0
PRODID:-//time.you/holidays//NONSGML v1.0//EN
BEGIN:VEVENT
UID:0260faaa-e71e-47a0-b2d7-87f2989219da
DTSTAMP:20260420T202044Z
DTSTART;VALUE=DATE:20260921
SUMMARY:Independence Day (Belize)
END:VEVENT
END:VCALENDAR