BEGIN:VCALENDAR
VERSION:2.0
PRODID:-//time.you/holidays//NONSGML v1.0//EN
BEGIN:VEVENT
UID:904c2d82-9d9f-4eda-b1c2-841286c3dfe9
DTSTAMP:20260422T032615Z
DTSTART;VALUE=DATE:20271011
SUMMARY:Indigenous Peoples' Resistance Day (observed) (Belize)
END:VEVENT
END:VCALENDAR