BEGIN:VCALENDAR
VERSION:2.0
PRODID:-//time.you/holidays//NONSGML v1.0//EN
BEGIN:VEVENT
UID:bcff1f8f-886b-4577-9f48-6a93b44e0f5e
DTSTAMP:20260422T072043Z
DTSTART;VALUE=DATE:20330502
SUMMARY:Labour Day (observed) (Belize)
END:VEVENT
END:VCALENDAR