BEGIN:VCALENDAR
VERSION:2.0
PRODID:-//time.you/holidays//NONSGML v1.0//EN
BEGIN:VEVENT
UID:cff8261c-3cd9-48ec-89e2-cae1c51457cb
DTSTAMP:20260422T021117Z
DTSTART;VALUE=DATE:20270308
SUMMARY:National Heroes and Benefactors Day (observed) (Belize)
END:VEVENT
END:VCALENDAR