BEGIN:VCALENDAR
VERSION:2.0
PRODID:-//time.you/holidays//NONSGML v1.0//EN
BEGIN:VEVENT
UID:1b27bedb-95cd-41fe-9a1a-a74c9c4f7d91
DTSTAMP:20260421T224555Z
DTSTART;VALUE=DATE:20340102
SUMMARY:New Year's Day (observed) (Belize)
END:VEVENT
END:VCALENDAR