BEGIN:VCALENDAR
VERSION:2.0
PRODID:-//time.you/holidays//NONSGML v1.0//EN
BEGIN:VEVENT
UID:6852076d-7273-4b1d-b348-484a8b11466b
DTSTAMP:20260420T195326Z
DTSTART;VALUE=DATE:20260101
SUMMARY:New Year's Day (Belize)
END:VEVENT
END:VCALENDAR