BEGIN:VCALENDAR
VERSION:2.0
PRODID:-//time.you/holidays//NONSGML v1.0//EN
BEGIN:VEVENT
UID:71a79874-c39b-4379-b2aa-14ce3b500b0d
DTSTAMP:20260421T143656Z
DTSTART;VALUE=DATE:20210513
SUMMARY:Ascension Day; Eid al-Fitr (estimated) (Benin)
END:VEVENT
END:VCALENDAR