BEGIN:VCALENDAR
VERSION:2.0
PRODID:-//time.you/holidays//NONSGML v1.0//EN
BEGIN:VEVENT
UID:887a730c-6384-4a16-9e93-0633e394d8f3
DTSTAMP:20260421T033749Z
DTSTART;VALUE=DATE:20260815
SUMMARY:Assumption Day (Benin)
END:VEVENT
END:VCALENDAR