BEGIN:VCALENDAR
VERSION:2.0
PRODID:-//time.you/holidays//NONSGML v1.0//EN
BEGIN:VEVENT
UID:52dbd835-56dc-4465-bb83-8034e328c845
DTSTAMP:20260420T073921Z
DTSTART;VALUE=DATE:20261225
SUMMARY:Christmas Day (Benin)
END:VEVENT
END:VCALENDAR