BEGIN:VCALENDAR
VERSION:2.0
PRODID:-//time.you/holidays//NONSGML v1.0//EN
BEGIN:VEVENT
UID:53b44004-2494-4fa1-b81b-5ebc8e675aaa
DTSTAMP:20260420T125257Z
DTSTART;VALUE=DATE:20260320
SUMMARY:Eid al-Fitr (estimated) (Benin)
END:VEVENT
END:VCALENDAR