BEGIN:VCALENDAR
VERSION:2.0
PRODID:-//time.you/holidays//NONSGML v1.0//EN
BEGIN:VEVENT
UID:c1370faf-030a-48fe-96ac-035def6139de
DTSTAMP:20260424T023527Z
DTSTART;VALUE=DATE:20260801
SUMMARY:National Day (Benin)
END:VEVENT
END:VCALENDAR