BEGIN:VCALENDAR
VERSION:2.0
PRODID:-//time.you/holidays//NONSGML v1.0//EN
BEGIN:VEVENT
UID:fc970b70-8b29-49c5-b554-db18b3eb934e
DTSTAMP:20260419T233622Z
DTSTART;VALUE=DATE:20260101
SUMMARY:New Year's Day (Benin)
END:VEVENT
END:VCALENDAR