BEGIN:VCALENDAR
VERSION:2.0
PRODID:-//time.you/holidays//NONSGML v1.0//EN
BEGIN:VEVENT
UID:b16b07ea-7f23-4359-861e-3d20e3ee0369
DTSTAMP:20260420T232418Z
DTSTART;VALUE=DATE:20261225
SUMMARY:Christmas Day (Bermuda)
END:VEVENT
END:VCALENDAR