BEGIN:VCALENDAR
VERSION:2.0
PRODID:-//time.you/holidays//NONSGML v1.0//EN
BEGIN:VEVENT
UID:49e9b215-aca8-41ff-85c6-34d445139185
DTSTAMP:20260420T070823Z
DTSTART;VALUE=DATE:20260403
SUMMARY:Good Friday (Bermuda)
END:VEVENT
END:VCALENDAR